BEGIN:VCALENDAR
VERSION:2.0
PRODID:-//Beverly Heritage Tourism - ECPv6.0.4//NONSGML v1.0//EN
CALSCALE:GREGORIAN
METHOD:PUBLISH
X-ORIGINAL-URL:https://beverlyheritagecenter.org
X-WR-CALDESC:Events for Beverly Heritage Tourism
REFRESH-INTERVAL;VALUE=DURATION:PT1H
X-Robots-Tag:noindex
X-PUBLISHED-TTL:PT1H
BEGIN:VTIMEZONE
TZID:UTC
BEGIN:STANDARD
TZOFFSETFROM:+0000
TZOFFSETTO:+0000
TZNAME:UTC
DTSTART:20260101T000000
END:STANDARD
END:VTIMEZONE
BEGIN:VEVENT
DTSTART;TZID=UTC:20260516T173000
DTEND;TZID=UTC:20260516T193000
DTSTAMP:20260422T194939
CREATED:20260121T155810Z
LAST-MODIFIED:20260402T160107Z
UID:3535-1778952600-1778959800@beverlyheritagecenter.org
SUMMARY:Live on the Lawn with Jason Hall
DESCRIPTION:  \n  \n \n  \nJoin us for Live on the Lawn featuring Jason Hall! Jason is a soulful acoustic musician with a knack for incorporating his flair into Country & Americana classics. With warm\, raspy vocals\, Jason delivers an intimate\, down-to-earth sound that resonates with audiences of all kinds. Drawing inspiration from legends like Johnny Cash and John Prine\, to contemporary artists like Tyler Childers and Zach Bryan\, Jason brings a genuine love of music and connection to every performance. The free event takes place outdoors on the 1841 Jailhouse lawn. Bring chairs\, snacks\, friends and family for a great time! Rain or Shine.
URL:https://beverlyheritagecenter.org/event/live-on-the-lawn-with-jason-hall-3/
LOCATION:Beverly Heritage Center\, 4 Court Street\, Beverly\, WV\, 26253\, United States
CATEGORIES:Concert
END:VEVENT
END:VCALENDAR