BEGIN:VCALENDAR
VERSION:2.0
PRODID:-//Beverly Heritage Tourism - ECPv6.0.4//NONSGML v1.0//EN
CALSCALE:GREGORIAN
METHOD:PUBLISH
X-WR-CALNAME:Beverly Heritage Tourism
X-ORIGINAL-URL:https://beverlyheritagecenter.org
X-WR-CALDESC:Events for Beverly Heritage Tourism
REFRESH-INTERVAL;VALUE=DURATION:PT1H
X-Robots-Tag:noindex
X-PUBLISHED-TTL:PT1H
BEGIN:VTIMEZONE
TZID:UTC
BEGIN:STANDARD
TZOFFSETFROM:+0000
TZOFFSETTO:+0000
TZNAME:UTC
DTSTART:20260101T000000
END:STANDARD
END:VTIMEZONE
BEGIN:VEVENT
DTSTART;TZID=UTC:20261107T173000
DTEND;TZID=UTC:20261107T193000
DTSTAMP:20260422T230657
CREATED:20260121T170739Z
LAST-MODIFIED:20260402T155535Z
UID:3546-1794072600-1794079800@beverlyheritagecenter.org
SUMMARY:Live in the Lodge with Jason Hall and JB Stalnaker
DESCRIPTION:  \n \n  \nJoin us for Live in the Lodge – the last live music event of the year! We’ll close the 2026 season with a duo performance by local favorites Jason Hall and JB Stalnaker. Saturday\, November 7th from 5:30-7:30 PM indoors at the Beverly IOOF Great Hall. More details coming soon. FREE.
URL:https://beverlyheritagecenter.org/event/live-in-the-lodge-with-jason-hall-and-jb-stalnaker/
LOCATION:IOOF\, 2536 Beverly Pike\, Beverly\, WV\, 26253\, United States
CATEGORIES:Concert
END:VEVENT
END:VCALENDAR