BEGIN:VCALENDAR
VERSION:2.0
PRODID:-//Beverly Heritage Tourism - ECPv6.0.4//NONSGML v1.0//EN
CALSCALE:GREGORIAN
METHOD:PUBLISH
X-WR-CALNAME:Beverly Heritage Tourism
X-ORIGINAL-URL:https://beverlyheritagecenter.org
X-WR-CALDESC:Events for Beverly Heritage Tourism
REFRESH-INTERVAL;VALUE=DURATION:PT1H
X-Robots-Tag:noindex
X-PUBLISHED-TTL:PT1H
BEGIN:VTIMEZONE
TZID:UTC
BEGIN:STANDARD
TZOFFSETFROM:+0000
TZOFFSETTO:+0000
TZNAME:UTC
DTSTART:20230101T000000
END:STANDARD
END:VTIMEZONE
BEGIN:VEVENT
DTSTART;TZID=UTC:20240302T110000
DTEND;TZID=UTC:20240302T180000
DTSTAMP:20260422T195032
CREATED:20231120T153826Z
LAST-MODIFIED:20240119T154325Z
UID:3125-1709377200-1709402400@beverlyheritagecenter.org
SUMMARY:Rifle Rally
DESCRIPTION:Annual Fundraiser event hosted by Rich Mountain Battlefield Foundation and Tygart Valley LIONS Club.  – \nPurchase tickets at Beverly Heritage Center or any TV LIONS Club member!
URL:https://beverlyheritagecenter.org/event/rifle-rally/
LOCATION:Phil Gainer Community Center\, 142 Robert E. Lee Ave. Extension\, Elkins\, WV\, 26241\, United States
CATEGORIES:Fundraiser
ATTACH;FMTTYPE=image/jpeg:https://beverlyheritagecenter.org/wp-content/uploads/2023/11/2024-Flyer-Rifle-Rally.jpg
END:VEVENT
BEGIN:VEVENT
DTSTART;TZID=UTC:20230923T110000
DTEND;TZID=UTC:20230923T170000
DTSTAMP:20260422T195032
CREATED:20230601T140753Z
LAST-MODIFIED:20230601T141031Z
UID:3016-1695466800-1695488400@beverlyheritagecenter.org
SUMMARY:Run For It! 2023
DESCRIPTION:The Beverly Heritage Center is participating in the Tucker Community Foundation’s RUN FOR IT event on Saturday September 23\, 2023 to raise funds! Please consider joining us in Davis WV that day and register for a 2K walk or a 5k run. If you can’t be present but want to join the team – you can be a virtual 2K or 5K runner. Cost to race is $12.00. If you’re not a racer\, please still consider participating by making a donation. Link to either option below! \nhttp://Beverly Heritage Center – Run For It (runsignup.com) \nThe event starts at 11 AM\, and for more information\, check out the link below: \nhttps://www.tuckerfoundation.net/run/
URL:https://beverlyheritagecenter.org/event/run-for-it-2023/
LOCATION:Davis\, West Virginia\, Davis\, West Virginia\, 26260\, United States
CATEGORIES:Fundraiser
ATTACH;FMTTYPE=image/png:https://beverlyheritagecenter.org/wp-content/uploads/2023/06/Run-For-It-3.png
END:VEVENT
END:VCALENDAR