BEGIN:VCALENDAR
VERSION:2.0
PRODID:-//Beverly Heritage Tourism - ECPv6.0.4//NONSGML v1.0//EN
CALSCALE:GREGORIAN
METHOD:PUBLISH
X-ORIGINAL-URL:https://beverlyheritagecenter.org
X-WR-CALDESC:Events for Beverly Heritage Tourism
REFRESH-INTERVAL;VALUE=DURATION:PT1H
X-Robots-Tag:noindex
X-PUBLISHED-TTL:PT1H
BEGIN:VTIMEZONE
TZID:UTC
BEGIN:STANDARD
TZOFFSETFROM:+0000
TZOFFSETTO:+0000
TZNAME:UTC
DTSTART:20260101T000000
END:STANDARD
END:VTIMEZONE
BEGIN:VEVENT
DTSTART;TZID=UTC:20260822T080000
DTEND;TZID=UTC:20260822T170000
DTSTAMP:20260422T224602
CREATED:20260402T153941Z
LAST-MODIFIED:20260402T155706Z
UID:3612-1787385600-1787418000@beverlyheritagecenter.org
SUMMARY:SemiQuin Saturday: Historic Beverly Walking Tour
DESCRIPTION:Learn about Beverly’s rich history with a walking tour of the town’s many significant sites. Saturday\, August 22nd at 10:30 AM. \nSemiQuin Saturdays are weekly heritage themed events for America at 250 June-August.
URL:https://beverlyheritagecenter.org/event/semiquin-saturday-historic-beverly-walking-tour-3/
LOCATION:Beverly Heritage Center\, 4 Court Street\, Beverly\, WV\, 26253\, United States
CATEGORIES:Tour
END:VEVENT
END:VCALENDAR