BEGIN:VCALENDAR
VERSION:2.0
PRODID:-//Beverly Heritage Tourism - ECPv6.0.4//NONSGML v1.0//EN
CALSCALE:GREGORIAN
METHOD:PUBLISH
X-WR-CALNAME:Beverly Heritage Tourism
X-ORIGINAL-URL:https://beverlyheritagecenter.org
X-WR-CALDESC:Events for Beverly Heritage Tourism
REFRESH-INTERVAL;VALUE=DURATION:PT1H
X-Robots-Tag:noindex
X-PUBLISHED-TTL:PT1H
BEGIN:VTIMEZONE
TZID:UTC
BEGIN:STANDARD
TZOFFSETFROM:+0000
TZOFFSETTO:+0000
TZNAME:UTC
DTSTART:20260101T000000
END:STANDARD
END:VTIMEZONE
BEGIN:VEVENT
DTSTART;TZID=UTC:20261015T190000
DTEND;TZID=UTC:20261015T203000
DTSTAMP:20260423T013627
CREATED:20260402T144802Z
LAST-MODIFIED:20260402T155619Z
UID:3596-1792090800-1792096200@beverlyheritagecenter.org
SUMMARY:Historic Beverly Lantern Tours
DESCRIPTION:  \nExperience Historic Beverly in a different light – with our popular lantern tours! Knowledgeable guides walk you through the sites and stories of Beverly’s past. $10.
URL:https://beverlyheritagecenter.org/event/historic-beverly-lantern-tours/
LOCATION:Beverly Heritage Center\, 4 Court Street\, Beverly\, WV\, 26253\, United States
CATEGORIES:Tour
END:VEVENT
END:VCALENDAR