BEGIN:VCALENDAR
VERSION:2.0
PRODID:-//Beverly Heritage Tourism - ECPv6.0.4//NONSGML v1.0//EN
CALSCALE:GREGORIAN
METHOD:PUBLISH
X-WR-CALNAME:Beverly Heritage Tourism
X-ORIGINAL-URL:https://beverlyheritagecenter.org
X-WR-CALDESC:Events for Beverly Heritage Tourism
REFRESH-INTERVAL;VALUE=DURATION:PT1H
X-Robots-Tag:noindex
X-PUBLISHED-TTL:PT1H
BEGIN:VTIMEZONE
TZID:UTC
BEGIN:STANDARD
TZOFFSETFROM:+0000
TZOFFSETTO:+0000
TZNAME:UTC
DTSTART:20260101T000000
END:STANDARD
END:VTIMEZONE
BEGIN:VEVENT
DTSTART;TZID=UTC:20260613T103000
DTEND;TZID=UTC:20260613T120000
DTSTAMP:20260422T142417
CREATED:20260402T152544Z
LAST-MODIFIED:20260402T160000Z
UID:3604-1781346600-1781352000@beverlyheritagecenter.org
SUMMARY:SemiQuin Saturday: Historic Beverly Walking Tour
DESCRIPTION:  \nLearn about Beverly’s rich history with a walking tour of the town’s many significant sites. Saturday\, June 13th at 10:30 AM. Free.
URL:https://beverlyheritagecenter.org/event/semiquin-saturday-historic-beverly-walking-tour/
LOCATION:Beverly Heritage Center\, 4 Court Street\, Beverly\, WV\, 26253\, United States
CATEGORIES:Tour
END:VEVENT
BEGIN:VEVENT
DTSTART;TZID=UTC:20260704T103000
DTEND;TZID=UTC:20260704T120000
DTSTAMP:20260422T142417
CREATED:20260402T152917Z
LAST-MODIFIED:20260402T155908Z
UID:3606-1783161000-1783166400@beverlyheritagecenter.org
SUMMARY:SemiQuin Saturday: Historic Beverly Walking Tour
DESCRIPTION:Learn about Beverly’s rich history with a walking tour of the town’s many significant sites. Saturday\, July 4th at 10:30 AM.
URL:https://beverlyheritagecenter.org/event/semiquin-saturday-historic-beverly-walking-tour-2/
LOCATION:Beverly Heritage Center\, 4 Court Street\, Beverly\, WV\, 26253\, United States
CATEGORIES:Tour
END:VEVENT
BEGIN:VEVENT
DTSTART;TZID=UTC:20260711T140000
DTEND;TZID=UTC:20260711T200000
DTSTAMP:20260422T142417
CREATED:20260402T142710Z
LAST-MODIFIED:20260402T155852Z
UID:3589-1783778400-1783800000@beverlyheritagecenter.org
SUMMARY:Rich Mountain Battle Commemoration
DESCRIPTION:  \n \n  \nJoin us to commemorate the anniversary of the Battle of Rich Mountain (July 11\, 1861) at the battlefield site in Mabie\, WV. Battlefield tours with food\, live music\, and dancing to follow at the nearby Field of Fire Pavilion. Saturday\, July 11th from 2-8 PM.
URL:https://beverlyheritagecenter.org/event/rich-mountain-battlefield-commemoration/
LOCATION:Rich Mountain Battlefield\, Rich Mountain Rd\, Beverly\, WV\, 26253\, United States
CATEGORIES:Concert,Tour
END:VEVENT
BEGIN:VEVENT
DTSTART;TZID=UTC:20260822T080000
DTEND;TZID=UTC:20260822T170000
DTSTAMP:20260422T142417
CREATED:20260402T153941Z
LAST-MODIFIED:20260402T155706Z
UID:3612-1787385600-1787418000@beverlyheritagecenter.org
SUMMARY:SemiQuin Saturday: Historic Beverly Walking Tour
DESCRIPTION:Learn about Beverly’s rich history with a walking tour of the town’s many significant sites. Saturday\, August 22nd at 10:30 AM. \nSemiQuin Saturdays are weekly heritage themed events for America at 250 June-August.
URL:https://beverlyheritagecenter.org/event/semiquin-saturday-historic-beverly-walking-tour-3/
LOCATION:Beverly Heritage Center\, 4 Court Street\, Beverly\, WV\, 26253\, United States
CATEGORIES:Tour
END:VEVENT
BEGIN:VEVENT
DTSTART;TZID=UTC:20261015T190000
DTEND;TZID=UTC:20261015T203000
DTSTAMP:20260422T142417
CREATED:20260402T144802Z
LAST-MODIFIED:20260402T155619Z
UID:3596-1792090800-1792096200@beverlyheritagecenter.org
SUMMARY:Historic Beverly Lantern Tours
DESCRIPTION:  \nExperience Historic Beverly in a different light – with our popular lantern tours! Knowledgeable guides walk you through the sites and stories of Beverly’s past. $10.
URL:https://beverlyheritagecenter.org/event/historic-beverly-lantern-tours/
LOCATION:Beverly Heritage Center\, 4 Court Street\, Beverly\, WV\, 26253\, United States
CATEGORIES:Tour
END:VEVENT
END:VCALENDAR