BEGIN:VCALENDAR
VERSION:2.0
PRODID:-//Beverly Heritage Tourism - ECPv6.0.4//NONSGML v1.0//EN
CALSCALE:GREGORIAN
METHOD:PUBLISH
X-WR-CALNAME:Beverly Heritage Tourism
X-ORIGINAL-URL:https://beverlyheritagecenter.org
X-WR-CALDESC:Events for Beverly Heritage Tourism
REFRESH-INTERVAL;VALUE=DURATION:PT1H
X-Robots-Tag:noindex
X-PUBLISHED-TTL:PT1H
BEGIN:VTIMEZONE
TZID:UTC
BEGIN:STANDARD
TZOFFSETFROM:+0000
TZOFFSETTO:+0000
TZNAME:UTC
DTSTART:20260101T000000
END:STANDARD
END:VTIMEZONE
BEGIN:VEVENT
DTSTART;TZID=UTC:20260801T110000
DTEND;TZID=UTC:20260801T140000
DTSTAMP:20260426T043152
CREATED:20260402T153345Z
LAST-MODIFIED:20260402T155743Z
UID:3608-1785582000-1785592800@beverlyheritagecenter.org
SUMMARY:SemiQuin Saturday: Heritage Craft Make-and-Take
DESCRIPTION:  \nTry your hand at a heritage craft! Local artist Emilee Goodman will lead a make-and-take session for artists of all ages. Saturday\, August 1st from 11 AM – 2 PM.
URL:https://beverlyheritagecenter.org/event/semiquin-saturday-heritage-craft-make-and-take/
LOCATION:Beverly Heritage Center\, 4 Court Street\, Beverly\, WV\, 26253\, United States
CATEGORIES:Workshop
END:VEVENT
BEGIN:VEVENT
DTSTART;TZID=UTC:20260808T110000
DTEND;TZID=UTC:20260808T140000
DTSTAMP:20260426T043152
CREATED:20260402T153656Z
LAST-MODIFIED:20260402T155727Z
UID:3610-1786186800-1786197600@beverlyheritagecenter.org
SUMMARY:SemiQuin Saturday: Blacksmith Demo
DESCRIPTION:  \nBurning with anticipation to see a blacksmithing demo? This event is for you! Join local artist Jesse Dickens as he demonstrates the art of blackmithing in our Beverly workshop. Saturday\, August 8th from 11 AM – 2 PM. \nSemiQuin Saturdays are weekly heritage themed events for America at 250 June-August.
URL:https://beverlyheritagecenter.org/event/semiquin-saturday-blacksmith-demo/
LOCATION:Beverly Heritage Center\, 4 Court Street\, Beverly\, WV\, 26253\, United States
CATEGORIES:Workshop
END:VEVENT
END:VCALENDAR